BEGIN:VCALENDAR
VERSION:2.0
PRODID:-//TENZ - ECPv4.7.2//NONSGML v1.0//EN
CALSCALE:GREGORIAN
METHOD:PUBLISH
X-WR-CALNAME:TENZ
X-ORIGINAL-URL:https://tenz.org.nz
X-WR-CALDESC:Events for TENZ
BEGIN:VEVENT
DTSTART;VALUE=DATE:20181203
DTEND;VALUE=DATE:20181205
DTSTAMP:20181221T221825
CREATED:20181119T202735Z
LAST-MODIFIED:20181119T202735Z
UID:7669-1543795200-1543967999@tenz.org.nz
SUMMARY:NZ School Leadership Forum
DESCRIPTION:Leadership vision in a modern climate of change\, technology and reform. \n
URL:https://tenz.org.nz/event/nz-school-leadership-forum/
LOCATION:Grand Millennium\, 71 Mayoral Dr\, Auckland\, 1010\, New Zealand
END:VEVENT
END:VCALENDAR